BEGIN:VCALENDAR
VERSION:2.0
PRODID:-//Audi Field - ECPv6.15.20//NONSGML v1.0//EN
CALSCALE:GREGORIAN
METHOD:PUBLISH
X-ORIGINAL-URL:https://audifield.com
X-WR-CALDESC:Events for Audi Field
REFRESH-INTERVAL;VALUE=DURATION:PT1H
X-Robots-Tag:noindex
X-PUBLISHED-TTL:PT1H
BEGIN:VTIMEZONE
TZID:America/New_York
BEGIN:DAYLIGHT
TZOFFSETFROM:-0500
TZOFFSETTO:-0400
TZNAME:EDT
DTSTART:20240310T070000
END:DAYLIGHT
BEGIN:STANDARD
TZOFFSETFROM:-0400
TZOFFSETTO:-0500
TZNAME:EST
DTSTART:20241103T060000
END:STANDARD
BEGIN:DAYLIGHT
TZOFFSETFROM:-0500
TZOFFSETTO:-0400
TZNAME:EDT
DTSTART:20250309T070000
END:DAYLIGHT
BEGIN:STANDARD
TZOFFSETFROM:-0400
TZOFFSETTO:-0500
TZNAME:EST
DTSTART:20251102T060000
END:STANDARD
BEGIN:DAYLIGHT
TZOFFSETFROM:-0500
TZOFFSETTO:-0400
TZNAME:EDT
DTSTART:20260308T070000
END:DAYLIGHT
BEGIN:STANDARD
TZOFFSETFROM:-0400
TZOFFSETTO:-0500
TZNAME:EST
DTSTART:20261101T060000
END:STANDARD
BEGIN:DAYLIGHT
TZOFFSETFROM:-0500
TZOFFSETTO:-0400
TZNAME:EDT
DTSTART:20270314T070000
END:DAYLIGHT
BEGIN:STANDARD
TZOFFSETFROM:-0400
TZOFFSETTO:-0500
TZNAME:EST
DTSTART:20271107T060000
END:STANDARD
END:VTIMEZONE
BEGIN:VTIMEZONE
TZID:UTC
BEGIN:STANDARD
TZOFFSETFROM:+0000
TZOFFSETTO:+0000
TZNAME:UTC
DTSTART:20230101T000000
END:STANDARD
END:VTIMEZONE
BEGIN:VEVENT
DTSTART;TZID=America/New_York:20260325T190000
DTEND;TZID=America/New_York:20260325T220000
DTSTAMP:20260422T105210
CREATED:20260317T134314Z
LAST-MODIFIED:20260317T134314Z
UID:1333-1774465200-1774476000@audifield.com
SUMMARY:Washington Spirit vs. Utah Royals FC
DESCRIPTION:TICKETS HERE
URL:https://audifield.com/event/washington-spirit-vs-utah-royals-fc-3/
LOCATION:Audi Field\, 100 Potomac Avenue SW\, D.C.\, 20003\, United States
CATEGORIES:NWSL,Washington Spirit
ATTACH;FMTTYPE=image/png:https://audifield.com/wp-content/uploads/2023/03/spirit-event-thumbnail.png
END:VEVENT
BEGIN:VEVENT
DTSTART;TZID=America/New_York:20251108T120000
DTEND;TZID=America/New_York:20251108T150000
DTSTAMP:20260422T105210
CREATED:20251103T144911Z
LAST-MODIFIED:20251103T144919Z
UID:1275-1762603200-1762614000@audifield.com
SUMMARY:Washington Spirit vs. Racing Louisville - NWSL Quarterfinals
DESCRIPTION:The Spirit Clinch No. 2 Seed in the 2025 NWSL Playoffs!\nThe Washington Spirit are heading to the postseason – and Audi Field will host the action! \nThe Spirit secured the second overall seed in the 2025 NWSL Playoffs and will take on Racing Louisville in the Quarterfinals on Saturday\, November 8 at 12:00 PM. \nDon’t miss your chance to be part of the playoff energy. \nBUY TICKETS HERE
URL:https://audifield.com/event/washington-spirit-vs-racing-louisville-nwsl-playoffs/
LOCATION:Audi Field\, 100 Potomac Avenue SW\, D.C.\, 20003\, United States
CATEGORIES:NWSL,Washington Spirit
ATTACH;FMTTYPE=image/jpeg:https://audifield.com/wp-content/uploads/2025/11/WS_25Playoffs_QFMatchup_16x9_V3.jpg
END:VEVENT
BEGIN:VEVENT
DTSTART;TZID=UTC:20251018T123000
DTEND;TZID=UTC:20251018T150000
DTSTAMP:20260422T105210
CREATED:20250129T211418Z
LAST-MODIFIED:20250129T211418Z
UID:955-1760790600-1760799600@audifield.com
SUMMARY:Washington Spirit vs. Orlando Pride
DESCRIPTION:TICKETS HERE
URL:https://audifield.com/event/washington-spirit-vs-orlando-pride-4/
LOCATION:Audi Field\, 100 Potomac Avenue SW\, D.C.\, 20003\, United States
CATEGORIES:NWSL,Washington Spirit
ATTACH;FMTTYPE=image/png:https://audifield.com/wp-content/uploads/2023/03/spirit-event-thumbnail.png
END:VEVENT
BEGIN:VEVENT
DTSTART;TZID=UTC:20251005T130000
DTEND;TZID=UTC:20251005T153000
DTSTAMP:20260422T105210
CREATED:20250125T031727Z
LAST-MODIFIED:20250125T031727Z
UID:953-1759669200-1759678200@audifield.com
SUMMARY:Washington Spirit vs. San Diego Wave FC
DESCRIPTION:TICKETS HERE
URL:https://audifield.com/event/washington-spirit-vs-san-diego-wave-fc-2/
LOCATION:Audi Field\, 100 Potomac Avenue SW\, D.C.\, 20003\, United States
CATEGORIES:NWSL,Washington Spirit
ATTACH;FMTTYPE=image/png:https://audifield.com/wp-content/uploads/2023/03/spirit-event-thumbnail.png
END:VEVENT
BEGIN:VEVENT
DTSTART;TZID=UTC:20250928T130000
DTEND;TZID=UTC:20250928T153000
DTSTAMP:20260422T105210
CREATED:20250124T224622Z
LAST-MODIFIED:20250124T224622Z
UID:952-1759064400-1759073400@audifield.com
SUMMARY:Washington Spirit vs. Houston Dash
DESCRIPTION:TICKETS HERE
URL:https://audifield.com/event/washington-spirit-vs-houston-dash-4/
LOCATION:Audi Field\, 100 Potomac Avenue SW\, D.C.\, 20003\, United States
CATEGORIES:NWSL,Washington Spirit
ATTACH;FMTTYPE=image/png:https://audifield.com/wp-content/uploads/2023/03/spirit-event-thumbnail.png
END:VEVENT
BEGIN:VEVENT
DTSTART;TZID=UTC:20250907T160000
DTEND;TZID=UTC:20250907T183000
DTSTAMP:20260422T105210
CREATED:20250124T223631Z
LAST-MODIFIED:20250124T223720Z
UID:951-1757260800-1757269800@audifield.com
SUMMARY:Washington Spirit vs. Seattle Reign FC
DESCRIPTION:TICKETS HERE
URL:https://audifield.com/event/washington-spirit-vs-seattle-reign-fc-2/
LOCATION:Audi Field\, 100 Potomac Avenue SW\, D.C.\, 20003\, United States
CATEGORIES:NWSL,Washington Spirit
ATTACH;FMTTYPE=image/png:https://audifield.com/wp-content/uploads/2023/03/spirit-event-thumbnail.png
END:VEVENT
BEGIN:VEVENT
DTSTART;TZID=UTC:20250831T160000
DTEND;TZID=UTC:20250831T183000
DTSTAMP:20260422T105210
CREATED:20250124T223552Z
LAST-MODIFIED:20250124T223552Z
UID:950-1756656000-1756665000@audifield.com
SUMMARY:Washington Spirit vs. Chicago Red Stars
DESCRIPTION:TICKETS HERE
URL:https://audifield.com/event/washington-spirit-vs-chicago-red-stars-3/
LOCATION:Audi Field\, 100 Potomac Avenue SW\, D.C.\, 20003\, United States
CATEGORIES:NWSL,Washington Spirit
ATTACH;FMTTYPE=image/png:https://audifield.com/wp-content/uploads/2023/03/spirit-event-thumbnail.png
END:VEVENT
BEGIN:VEVENT
DTSTART;TZID=UTC:20250803T123000
DTEND;TZID=UTC:20250803T150000
DTSTAMP:20260422T105211
CREATED:20250124T222213Z
LAST-MODIFIED:20250124T222213Z
UID:948-1754224200-1754233200@audifield.com
SUMMARY:Washington Spirit vs. Portland Thorns
DESCRIPTION:TICKETS HERE
URL:https://audifield.com/event/washington-spirit-vs-portland-thorns-2/
LOCATION:Audi Field\, 100 Potomac Avenue SW\, D.C.\, 20003\, United States
CATEGORIES:NWSL,Washington Spirit
ATTACH;FMTTYPE=image/png:https://audifield.com/wp-content/uploads/2023/03/spirit-event-thumbnail.png
END:VEVENT
BEGIN:VEVENT
DTSTART;TZID=UTC:20250608T160000
DTEND;TZID=UTC:20250608T183000
DTSTAMP:20260422T105211
CREATED:20250124T215717Z
LAST-MODIFIED:20250124T215740Z
UID:947-1749398400-1749407400@audifield.com
SUMMARY:Washington Spirit vs. North Carolina Courage
DESCRIPTION:TICKETS HERE
URL:https://audifield.com/event/washington-spirit-vs-north-carolina-courage-4/
LOCATION:Audi Field\, 100 Potomac Avenue SW\, D.C.\, 20003\, United States
CATEGORIES:NWSL,Washington Spirit
ATTACH;FMTTYPE=image/png:https://audifield.com/wp-content/uploads/2023/03/spirit-event-thumbnail.png
END:VEVENT
BEGIN:VEVENT
DTSTART;TZID=UTC:20250517T193000
DTEND;TZID=UTC:20250517T220000
DTSTAMP:20260422T105211
CREATED:20250124T214118Z
LAST-MODIFIED:20250124T214118Z
UID:945-1747510200-1747519200@audifield.com
SUMMARY:Washington Spirit vs. Utah Royals FC
DESCRIPTION:TICKETS HERE
URL:https://audifield.com/event/washington-spirit-vs-utah-royals-fc-2/
LOCATION:Audi Field\, 100 Potomac Avenue SW\, D.C.\, 20003\, United States
CATEGORIES:NWSL,Washington Spirit
ATTACH;FMTTYPE=image/png:https://audifield.com/wp-content/uploads/2023/03/spirit-event-thumbnail.png
END:VEVENT
BEGIN:VEVENT
DTSTART;TZID=UTC:20250502T200000
DTEND;TZID=UTC:20250502T220000
DTSTAMP:20260422T105211
CREATED:20250124T213816Z
LAST-MODIFIED:20250423T150436Z
UID:944-1746216000-1746223200@audifield.com
SUMMARY:Washington Spirit vs. Angel City FC
DESCRIPTION:Join us at Audi Field on for a pawsitively unforgettable experience at Pitchside Pups presented by Mars! Bring your dog along to enjoy the match between the Washington Spirit and Angel City FC at 8:30 p.m. ET as well as special experiences and activities for the VIP (very important pup) in your life! Click here to bring your pup! \nPURCHASE GENERAL TICKETS HERE
URL:https://audifield.com/event/washington-spirit-vs-angel-city-fc-3/
LOCATION:Audi Field\, 100 Potomac Avenue SW\, D.C.\, 20003\, United States
CATEGORIES:D.C. United,NWSL,Washington Spirit
ATTACH;FMTTYPE=image/jpeg:https://audifield.com/wp-content/uploads/2025/01/WS_25_PitchsidePups_16x9_v2.jpg
END:VEVENT
BEGIN:VEVENT
DTSTART;TZID=UTC:20250426T130000
DTEND;TZID=UTC:20250426T150000
DTSTAMP:20260422T105211
CREATED:20250124T212348Z
LAST-MODIFIED:20250423T133157Z
UID:943-1745672400-1745679600@audifield.com
SUMMARY:Washington Spirit vs. NJ/NY Gotham FC
DESCRIPTION:TICKETS HERE
URL:https://audifield.com/event/washington-spirit-vs-nj-ny-gotham-fc/
LOCATION:Audi Field\, 100 Potomac Avenue SW\, D.C.\, 20003\, United States
CATEGORIES:NWSL,Washington Spirit
ATTACH;FMTTYPE=image/png:https://audifield.com/wp-content/uploads/2023/03/spirit-event-thumbnail.png
END:VEVENT
BEGIN:VEVENT
DTSTART;TZID=UTC:20250328T193000
DTEND;TZID=UTC:20250328T220000
DTSTAMP:20260422T105211
CREATED:20250124T212146Z
LAST-MODIFIED:20250124T212146Z
UID:942-1743190200-1743199200@audifield.com
SUMMARY:Washington Spirit vs. Bay FC
DESCRIPTION:TICKETS HERE
URL:https://audifield.com/event/washington-spirit-vs-bay-fc-2/
LOCATION:Audi Field\, 100 Potomac Avenue SW\, D.C.\, 20003\, United States
CATEGORIES:NWSL,Washington Spirit
ATTACH;FMTTYPE=image/png:https://audifield.com/wp-content/uploads/2023/03/spirit-event-thumbnail.png
END:VEVENT
BEGIN:VEVENT
DTSTART;TZID=UTC:20250322T193000
DTEND;TZID=UTC:20250322T220000
DTSTAMP:20260422T105211
CREATED:20250124T211903Z
LAST-MODIFIED:20250124T211903Z
UID:940-1742671800-1742680800@audifield.com
SUMMARY:Washington Spirit vs. Kansas City Current
DESCRIPTION:TICKETS HERE
URL:https://audifield.com/event/washington-spirit-vs-kansas-city-current-2/
LOCATION:Audi Field\, 100 Potomac Avenue SW\, D.C.\, 20003\, United States
CATEGORIES:NWSL,Soccer,Washington Spirit
ATTACH;FMTTYPE=image/png:https://audifield.com/wp-content/uploads/2023/03/spirit-event-thumbnail.png
END:VEVENT
BEGIN:VEVENT
DTSTART;TZID=UTC:20241115T080000
DTEND;TZID=UTC:20241115T170000
DTSTAMP:20260422T105211
CREATED:20241115T195036Z
LAST-MODIFIED:20241115T195036Z
UID:916-1731657600-1731690000@audifield.com
SUMMARY:Washington Spirit vs. Gotham FC - NWSL Semifinals
DESCRIPTION:SEMIFINALS PRESENTED BY ALARM.COM \nWear all black and get ROWDY AT AUDI as the Spirit hosts the defending champion Gotham FC in the semifinals. With a spot in the NWSL Championship on the line\, Hal Hershfelt\, Aubrey Kingsbury\, and the Spirit will look to extend their home win streak against their East Coast rival. \nTICKETS HERE
URL:https://audifield.com/event/washington-spirit-vs-gotham-fc-nwsl-semifinals/
CATEGORIES:NWSL,Soccer,Washington Spirit
ATTACH;FMTTYPE=image/png:https://audifield.com/wp-content/uploads/2023/03/spirit-event-thumbnail.png
END:VEVENT
BEGIN:VEVENT
DTSTART;TZID=UTC:20241110T123000
DTEND;TZID=UTC:20241110T143000
DTSTAMP:20260422T105211
CREATED:20241107T015239Z
LAST-MODIFIED:20241107T015423Z
UID:910-1731241800-1731249000@audifield.com
SUMMARY:Washington Spirit vs. Bay FC - NWSL Quarterfinals
DESCRIPTION:The Washington Spirit has secured a spot in the NWSL Playoffs for the first time since 2021 and will host a quarterfinal match on Sunday\, November 10 at Audi Field vs. Bay FC. Tickets are now on sale!\n\n\n\nTICKETS HERE
URL:https://audifield.com/event/washington-spirit-nwsl-playoffs-quarterfinals/
LOCATION:Audi Field\, 100 Potomac Avenue SW\, D.C.\, 20003\, United States
CATEGORIES:NWSL,Soccer,Washington Spirit
ATTACH;FMTTYPE=image/webp:https://audifield.com/wp-content/uploads/2024/11/WS_24_Quarterfinal-Tickets_r3_16x9b-1.webp
END:VEVENT
BEGIN:VEVENT
DTSTART;TZID=UTC:20241020T170000
DTEND;TZID=UTC:20241020T190000
DTSTAMP:20260422T105211
CREATED:20240306T193341Z
LAST-MODIFIED:20240306T193341Z
UID:800-1729443600-1729450800@audifield.com
SUMMARY:Washington Spirit vs. Chicago Red Stars
DESCRIPTION:TICKETS HERE
URL:https://audifield.com/event/washington-spirit-vs-chicago-red-stars-2/
LOCATION:Audi Field\, 100 Potomac Avenue SW\, D.C.\, 20003\, United States
CATEGORIES:NWSL,Washington Spirit
ATTACH;FMTTYPE=image/png:https://audifield.com/wp-content/uploads/2023/03/spirit-event-thumbnail.png
END:VEVENT
BEGIN:VEVENT
DTSTART;TZID=UTC:20241013T170000
DTEND;TZID=UTC:20241013T190000
DTSTAMP:20260422T105211
CREATED:20240306T193135Z
LAST-MODIFIED:20240306T193135Z
UID:799-1728838800-1728846000@audifield.com
SUMMARY:Washington Spirit vs. Racing Louisville FC
DESCRIPTION:TICKETS HERE
URL:https://audifield.com/event/washington-spirit-vs-racing-louisville-fc-2/
LOCATION:Audi Field\, 100 Potomac Avenue SW\, D.C.\, 20003\, United States
CATEGORIES:NWSL,Washington Spirit
ATTACH;FMTTYPE=image/png:https://audifield.com/wp-content/uploads/2023/03/spirit-event-thumbnail.png
END:VEVENT
BEGIN:VEVENT
DTSTART;TZID=UTC:20240915T130000
DTEND;TZID=UTC:20240915T150000
DTSTAMP:20260422T105211
CREATED:20240306T192538Z
LAST-MODIFIED:20240306T192538Z
UID:798-1726405200-1726412400@audifield.com
SUMMARY:Washington Spirit vs. Houston Dash
DESCRIPTION:TICKETS HERE
URL:https://audifield.com/event/washington-spirit-vs-houston-dash-3/
LOCATION:Audi Field\, 100 Potomac Avenue SW\, D.C.\, 20003\, United States
CATEGORIES:NWSL,Washington Spirit
ATTACH;FMTTYPE=image/png:https://audifield.com/wp-content/uploads/2023/03/spirit-event-thumbnail.png
END:VEVENT
BEGIN:VEVENT
DTSTART;TZID=UTC:20240907T123000
DTEND;TZID=UTC:20240907T143000
DTSTAMP:20260422T105211
CREATED:20240306T192422Z
LAST-MODIFIED:20240731T185208Z
UID:797-1725712200-1725719400@audifield.com
SUMMARY:Washington Spirit vs. Portland Thorns
DESCRIPTION:TICKETS HERE
URL:https://audifield.com/event/washington-spiriti-vs-portland-thorns/
LOCATION:Audi Field\, 100 Potomac Avenue SW\, D.C.\, 20003\, United States
CATEGORIES:NWSL,Washington Spirit
ATTACH;FMTTYPE=image/png:https://audifield.com/wp-content/uploads/2023/03/spirit-event-thumbnail.png
END:VEVENT
BEGIN:VEVENT
DTSTART;TZID=UTC:20240825T120000
DTEND;TZID=UTC:20240825T183000
DTSTAMP:20260422T105211
CREATED:20240807T002956Z
LAST-MODIFIED:20240807T002956Z
UID:859-1724587200-1724610600@audifield.com
SUMMARY:Washington Spirit vs. Kansas City Current & Arsenal FC vs. Chelsea FC
DESCRIPTION:2 Matches. 1 Ticket. \nCatch Trinity Rodman and the Spirit vs. Kansas City Current at 12:00 p.m. EDT followed by Arsenal vs. Cat Macario and Chelsea at 4:00 p.m. EDT. \nPurchase tickets to the doubleheader here! \nWashington Spirit International Friendlies Ticket Bundle: \nDon’t miss the opportunity to witness a historic global soccer event right here in Washington D.C. during the inaugural Washington Spirit International Friendlies! This exclusive bundle includes a ticket to see the Spirit take on Arsenal FC on August 18th and the Double Header on August 25th\, where the Spirit will match up against Kansas City Current\, followed by a match between Chelsea FC and Arsenal FC. Not only will this offer grant you access to the exciting matches\, but you’ll also save on fees when bundling. \nPurchase the bundle here!
URL:https://audifield.com/event/washington-spirit-vs-kansas-city-current-arsenal-fc-vs-chelsea-fc/
LOCATION:Audi Field\, 100 Potomac Avenue SW\, D.C.\, 20003\, United States
CATEGORIES:Arsenal FC,Chelsea FC,NWSL,Soccer,Washington Spirit
ATTACH;FMTTYPE=image/jpeg:https://audifield.com/wp-content/uploads/2024/08/WS_24_WomensSoccerDblHeader_16x9-_082524.jpg
END:VEVENT
BEGIN:VEVENT
DTSTART;TZID=UTC:20240818T140000
DTEND;TZID=UTC:20240818T163000
DTSTAMP:20260422T105211
CREATED:20240807T001403Z
LAST-MODIFIED:20240807T003045Z
UID:854-1723989600-1723998600@audifield.com
SUMMARY:Washington Spirit vs. Arsenal FC
DESCRIPTION:You won’t want to miss the Spirit host two of the most storied women’s sides in the world right here in Washington\, D.C.! The Spirit will face Alessia Russo and Arsenal on Sunday\, August 18 at 2:00 p.m. EDT at Audi Field. \nPurchase single tickets for Washington Spirit vs. Arsenal FC here! \nWashington Spirit International Friendlies Ticket Bundle: \nDon’t miss the opportunity to witness a historic global soccer event right here in Washington D.C. during the inaugural Washington Spirit International Friendlies! This exclusive bundle includes a ticket to see the Spirit take on Arsenal FC on August 18th and the Double Header on August 25th\, where the Spirit will match up against Kansas City Current\, followed by a match between Chelsea FC and Arsenal FC. Not only will this offer grant you access to the exciting matches\, but you’ll also save on fees when bundling. \nPurchase the bundle here!
URL:https://audifield.com/event/washington-spirit-vs-arsenal-fc/
LOCATION:Audi Field\, 100 Potomac Avenue SW\, D.C.\, 20003\, United States
CATEGORIES:Arsenal FC,NWSL,Soccer,Washington Spirit
ATTACH;FMTTYPE=image/jpeg:https://audifield.com/wp-content/uploads/2024/08/WS_24_SIF_GlobalSuperstars_081824.jpg
END:VEVENT
BEGIN:VEVENT
DTSTART;TZID=UTC:20240629T193000
DTEND;TZID=UTC:20240629T213000
DTSTAMP:20260422T105211
CREATED:20240306T191552Z
LAST-MODIFIED:20240306T191552Z
UID:795-1719689400-1719696600@audifield.com
SUMMARY:Washington Spirit vs. North Carolina Courage
DESCRIPTION:TICKETS HERE
URL:https://audifield.com/event/washington-spirit-vs-north-carolina-courage-3/
LOCATION:Audi Field\, 100 Potomac Avenue SW\, D.C.\, 20003\, United States
CATEGORIES:NWSL,Washington Spirit
ATTACH;FMTTYPE=image/png:https://audifield.com/wp-content/uploads/2023/03/spirit-event-thumbnail.png
END:VEVENT
BEGIN:VEVENT
DTSTART;TZID=UTC:20240615T193000
DTEND;TZID=UTC:20240615T213000
DTSTAMP:20260422T105211
CREATED:20240306T191300Z
LAST-MODIFIED:20240306T191300Z
UID:794-1718479800-1718487000@audifield.com
SUMMARY:Washington Spirit vs. San Diego Wave FC
DESCRIPTION:TICKETS HERE
URL:https://audifield.com/event/washington-spirit-vs-san-diego-wave-fc/
LOCATION:Audi Field\, 100 Potomac Avenue SW\, D.C.\, 20003\, United States
CATEGORIES:NWSL,Washington Spirit
ATTACH;FMTTYPE=image/png:https://audifield.com/wp-content/uploads/2023/03/spirit-event-thumbnail.png
END:VEVENT
BEGIN:VEVENT
DTSTART;TZID=UTC:20240524T193000
DTEND;TZID=UTC:20240524T213000
DTSTAMP:20260422T105211
CREATED:20240306T191102Z
LAST-MODIFIED:20240306T191102Z
UID:793-1716579000-1716586200@audifield.com
SUMMARY:Washington Spirit vs. Seattle Reign FC
DESCRIPTION:TICKETS HERE
URL:https://audifield.com/event/washington-spirit-vs-seattle-reign-fc/
LOCATION:Audi Field\, 100 Potomac Avenue SW\, D.C.\, 20003\, United States
CATEGORIES:NWSL,Washington Spirit
ATTACH;FMTTYPE=image/png:https://audifield.com/wp-content/uploads/2023/03/spirit-event-thumbnail.png
END:VEVENT
BEGIN:VEVENT
DTSTART;TZID=UTC:20240518T193000
DTEND;TZID=UTC:20240518T213000
DTSTAMP:20260422T105211
CREATED:20240306T190733Z
LAST-MODIFIED:20240306T190733Z
UID:792-1716060600-1716067800@audifield.com
SUMMARY:Washington Spirit vs. Angel City FC
DESCRIPTION:TICKETS HERE
URL:https://audifield.com/event/washington-spirit-vs-angel-city-fc-2/
LOCATION:Audi Field\, 100 Potomac Avenue SW\, D.C.\, 20003\, United States
CATEGORIES:NWSL,Washington Spirit
ATTACH;FMTTYPE=image/png:https://audifield.com/wp-content/uploads/2023/03/spirit-event-thumbnail.png
END:VEVENT
BEGIN:VEVENT
DTSTART;TZID=UTC:20240426T193000
DTEND;TZID=UTC:20240426T213000
DTSTAMP:20260422T105211
CREATED:20240306T190235Z
LAST-MODIFIED:20240306T190235Z
UID:791-1714159800-1714167000@audifield.com
SUMMARY:Washington Spirit vs. Orlando Pride
DESCRIPTION:TICKETS HERE
URL:https://audifield.com/event/washington-spirit-vs-orlando-pride-3/
LOCATION:Audi Field\, 100 Potomac Avenue SW\, D.C.\, 20003\, United States
CATEGORIES:NWSL,Washington Spirit
ATTACH;FMTTYPE=image/png:https://audifield.com/wp-content/uploads/2023/03/spirit-event-thumbnail.png
END:VEVENT
BEGIN:VEVENT
DTSTART;TZID=UTC:20240420T130000
DTEND;TZID=UTC:20240420T150000
DTSTAMP:20260422T105211
CREATED:20240306T190011Z
LAST-MODIFIED:20240306T190011Z
UID:790-1713618000-1713625200@audifield.com
SUMMARY:Washington Spirit vs. Gotham FC
DESCRIPTION:TICKETS HERE
URL:https://audifield.com/event/washington-spirit-vs-gotham-fc-3/
LOCATION:Audi Field\, 100 Potomac Avenue SW\, D.C.\, 20003\, United States
CATEGORIES:NWSL,Washington Spirit
ATTACH;FMTTYPE=image/png:https://audifield.com/wp-content/uploads/2023/03/spirit-event-thumbnail.png
END:VEVENT
BEGIN:VEVENT
DTSTART;TZID=UTC:20240331T130000
DTEND;TZID=UTC:20240331T150000
DTSTAMP:20260422T105211
CREATED:20240306T185814Z
LAST-MODIFIED:20240306T185814Z
UID:789-1711890000-1711897200@audifield.com
SUMMARY:Washington Spirit vs. Utah Royals FC
DESCRIPTION:TICKETS HERE
URL:https://audifield.com/event/washington-spirit-vs-utah-royals-fc/
LOCATION:Audi Field\, 100 Potomac Avenue SW\, D.C.\, 20003\, United States
CATEGORIES:NWSL,Washington Spirit
ATTACH;FMTTYPE=image/png:https://audifield.com/wp-content/uploads/2023/03/spirit-event-thumbnail.png
END:VEVENT
BEGIN:VEVENT
DTSTART;TZID=UTC:20240323T193000
DTEND;TZID=UTC:20240323T213000
DTSTAMP:20260422T105211
CREATED:20240306T185632Z
LAST-MODIFIED:20240306T185632Z
UID:788-1711222200-1711229400@audifield.com
SUMMARY:Washington Spirit vs. Bay FC
DESCRIPTION:TICKETS HERE
URL:https://audifield.com/event/washington-spirit-vs-bay-fc/
LOCATION:Audi Field\, 100 Potomac Avenue SW\, D.C.\, 20003\, United States
CATEGORIES:NWSL,Washington Spirit
ATTACH;FMTTYPE=image/png:https://audifield.com/wp-content/uploads/2023/03/spirit-event-thumbnail.png
END:VEVENT
END:VCALENDAR