BEGIN:VCALENDAR
VERSION:2.0
PRODID:-//Audi Field - ECPv6.15.20//NONSGML v1.0//EN
CALSCALE:GREGORIAN
METHOD:PUBLISH
X-WR-CALNAME:Audi Field
X-ORIGINAL-URL:https://audifield.com
X-WR-CALDESC:Events for Audi Field
REFRESH-INTERVAL;VALUE=DURATION:PT1H
X-Robots-Tag:noindex
X-PUBLISHED-TTL:PT1H
BEGIN:VTIMEZONE
TZID:UTC
BEGIN:STANDARD
TZOFFSETFROM:+0000
TZOFFSETTO:+0000
TZNAME:UTC
DTSTART:20240101T000000
END:STANDARD
END:VTIMEZONE
BEGIN:VEVENT
DTSTART;TZID=UTC:20250528T193000
DTEND;TZID=UTC:20250528T220000
DTSTAMP:20260421T080251
CREATED:20241221T013458Z
LAST-MODIFIED:20250515T182735Z
UID:927-1748460600-1748469600@audifield.com
SUMMARY:D.C. United vs. New England Revolution
DESCRIPTION:Join us for a tail-wagging good time at the 4th Annual Pups at the Pitch! Bring your furry friend along for an exciting day of soccer as D.C. United takes on the New England Revolution. One dog per adult\, and we welcome all breeds with open paws. Ensure your pup is game-ready by bringing proof of vaccination (rabies\, DHLPP\, and Bordatella) and completing our MANDATORY REGISTRATION FORM. Complimentary pup tickets will be added within 48 hours after the mandatory registration form is filled out and tickets are purchased. \nTICKETS HERE
URL:https://audifield.com/event/d-c-united-vs-new-england-revolution-3/
LOCATION:Audi Field\, 100 Potomac Avenue SW\, D.C.\, 20003\, United States
CATEGORIES:D.C. United,MLS,Soccer
ATTACH;FMTTYPE=image/jpeg:https://audifield.com/wp-content/uploads/2024/12/DCU_2025_Pups_at_the_Pitch_Ads_1920x1080.jpg
END:VEVENT
END:VCALENDAR