BEGIN:VCALENDAR
VERSION:2.0
PRODID:-//Audi Field - ECPv6.15.20//NONSGML v1.0//EN
CALSCALE:GREGORIAN
METHOD:PUBLISH
X-ORIGINAL-URL:https://audifield.com
X-WR-CALDESC:Events for Audi Field
REFRESH-INTERVAL;VALUE=DURATION:PT1H
X-Robots-Tag:noindex
X-PUBLISHED-TTL:PT1H
BEGIN:VTIMEZONE
TZID:UTC
BEGIN:STANDARD
TZOFFSETFROM:+0000
TZOFFSETTO:+0000
TZNAME:UTC
DTSTART:20240101T000000
END:STANDARD
END:VTIMEZONE
BEGIN:VEVENT
DTSTART;TZID=UTC:20250524T193000
DTEND;TZID=UTC:20250524T220000
DTSTAMP:20260423T083516
CREATED:20241221T012813Z
LAST-MODIFIED:20250516T141257Z
UID:926-1748115000-1748124000@audifield.com
SUMMARY:D.C. United vs. New York Red Bulls
DESCRIPTION:Post-match autograph with Kim Joon-Hong and Hosei Kijima! \nJoin us for AANHPI Night on May 24th at D.C. United takes on the New York Red Bulls at 7:30! Tickets start at just $27 for the night and a great opportunity to bring your group together to celebrate AANHPI Month! \nAll Tickets purchased via this link include a post-match autograph with Kim Joon-Hong and Hosei Kijima! Information for the post-match meet and greet will be sent out 48 hours out from the match. \nTICKETS HERE \nAlso available for 5/24: \n \nThe Ticket + Drink offer includes the following starting at $30: \n\nOne Ticket to D.C. United vs. New York Red Bulls on Saturday\, May 24 at 7:30pm.\nYour choice of a Cutwater Lime Margarita or a Pineapple Nutrl.\n\nMUST BE 21+ TO PURCHASE. \nTICKETS HERE
URL:https://audifield.com/event/d-c-united-vs-new-york-red-bulls-3/
LOCATION:Audi Field\, 100 Potomac Avenue SW\, D.C.\, 20003\, United States
CATEGORIES:D.C. United,MLS,Soccer
ATTACH;FMTTYPE=image/jpeg:https://audifield.com/wp-content/uploads/2024/12/DCU_2025-AANHPINight_Promo-Graphics_Web_1920X1080.jpg
END:VEVENT
END:VCALENDAR