BEGIN:VCALENDAR
VERSION:2.0
PRODID:-//Audi Field - ECPv6.15.20//NONSGML v1.0//EN
CALSCALE:GREGORIAN
METHOD:PUBLISH
X-WR-CALNAME:Audi Field
X-ORIGINAL-URL:https://audifield.com
X-WR-CALDESC:Events for Audi Field
REFRESH-INTERVAL;VALUE=DURATION:PT1H
X-Robots-Tag:noindex
X-PUBLISHED-TTL:PT1H
BEGIN:VTIMEZONE
TZID:UTC
BEGIN:STANDARD
TZOFFSETFROM:+0000
TZOFFSETTO:+0000
TZNAME:UTC
DTSTART:20230101T000000
END:STANDARD
END:VTIMEZONE
BEGIN:VEVENT
DTSTART;TZID=UTC:20240505T160000
DTEND;TZID=UTC:20240505T190000
DTSTAMP:20260419T130814
CREATED:20240222T205424Z
LAST-MODIFIED:20240222T205424Z
UID:778-1714924800-1714935600@audifield.com
SUMMARY:DC Defenders vs. San Antonio Brahmas
DESCRIPTION:TICKETS HERE
URL:https://audifield.com/event/dc-defenders-vs-san-antonio-brahmas/
LOCATION:Audi Field\, 100 Potomac Avenue SW\, D.C.\, 20003\, United States
CATEGORIES:D.C. Defenders,Football,UFL
ATTACH;FMTTYPE=image/png:https://audifield.com/wp-content/uploads/2024/02/dc-defenders-audi-field-thumbnail.png
END:VEVENT
END:VCALENDAR