BEGIN:VCALENDAR
VERSION:2.0
PRODID:-//Audi Field - ECPv6.15.20//NONSGML v1.0//EN
CALSCALE:GREGORIAN
METHOD:PUBLISH
X-ORIGINAL-URL:https://audifield.com
X-WR-CALDESC:Events for Audi Field
REFRESH-INTERVAL;VALUE=DURATION:PT1H
X-Robots-Tag:noindex
X-PUBLISHED-TTL:PT1H
BEGIN:VTIMEZONE
TZID:UTC
BEGIN:STANDARD
TZOFFSETFROM:+0000
TZOFFSETTO:+0000
TZNAME:UTC
DTSTART:20220101T000000
END:STANDARD
END:VTIMEZONE
BEGIN:VEVENT
DTSTART;TZID=UTC:20230325T193000
DTEND;TZID=UTC:20230325T213000
DTSTAMP:20260421T035646
CREATED:20230320T221519Z
LAST-MODIFIED:20230322T225627Z
UID:610-1679772600-1679779800@audifield.com
SUMMARY:D.C. United vs. New England Revolution
DESCRIPTION:TICKETS HERE
URL:https://audifield.com/event/d-c-united-vs-new-england-revolution/
LOCATION:Audi Field\, 100 Potomac Avenue SW\, D.C.\, 20003\, United States
CATEGORIES:D.C. United,MLS,Soccer
ATTACH;FMTTYPE=image/png:https://audifield.com/wp-content/uploads/2022/08/dcu-article.png
END:VEVENT
END:VCALENDAR